BEGIN:VCALENDAR
VERSION:2.0
PRODID:-//Family Online Safety Institute - ECPv6.15.20//NONSGML v1.0//EN
CALSCALE:GREGORIAN
METHOD:PUBLISH
X-ORIGINAL-URL:https://fosi.org
X-WR-CALDESC:Events for Family Online Safety Institute
REFRESH-INTERVAL;VALUE=DURATION:PT1H
X-Robots-Tag:noindex
X-PUBLISHED-TTL:PT1H
BEGIN:VTIMEZONE
TZID:America/New_York
BEGIN:DAYLIGHT
TZOFFSETFROM:-0500
TZOFFSETTO:-0400
TZNAME:EDT
DTSTART:20250309T070000
END:DAYLIGHT
BEGIN:STANDARD
TZOFFSETFROM:-0400
TZOFFSETTO:-0500
TZNAME:EST
DTSTART:20251102T060000
END:STANDARD
BEGIN:DAYLIGHT
TZOFFSETFROM:-0500
TZOFFSETTO:-0400
TZNAME:EDT
DTSTART:20260308T070000
END:DAYLIGHT
BEGIN:STANDARD
TZOFFSETFROM:-0400
TZOFFSETTO:-0500
TZNAME:EST
DTSTART:20261101T060000
END:STANDARD
BEGIN:DAYLIGHT
TZOFFSETFROM:-0500
TZOFFSETTO:-0400
TZNAME:EDT
DTSTART:20270314T070000
END:DAYLIGHT
BEGIN:STANDARD
TZOFFSETFROM:-0400
TZOFFSETTO:-0500
TZNAME:EST
DTSTART:20271107T060000
END:STANDARD
END:VTIMEZONE
BEGIN:VTIMEZONE
TZID:UTC
BEGIN:STANDARD
TZOFFSETFROM:+0000
TZOFFSETTO:+0000
TZNAME:UTC
DTSTART:20250101T000000
END:STANDARD
END:VTIMEZONE
BEGIN:VEVENT
DTSTART;TZID=America/New_York:20260210T070000
DTEND;TZID=America/New_York:20260210T080000
DTSTAMP:20260421T111316
CREATED:20260203T140657Z
LAST-MODIFIED:20260203T201426Z
UID:12983-1770706800-1770710400@fosi.org
SUMMARY:Connected Worlds: How Youth Navigate Technology at Home and in the Classroom
DESCRIPTION:Young people move between home and school every day\, carrying their digital lives with them. Yet the expectations\, rules\, and responses they encounter in each space are often misaligned. This Safer Internet Day webinar brings together youth panelists and experts from FOSI\, NoFiltr\, and Discovery Education for a conversation on how young people experience technology in their daily lives\, and how adult responses shape trust\, communication\, and confidence. \nGrounded in youth perspectives\, the session examines where adult assumptions may fall short\, how differing approaches across home and school affect young people\, and what realistic\, supportive adult engagement looks like in practice. Rather than focusing on tools or restrictions\, the discussion centers on relationships\, communication\, and consistency. Click here here to register.
URL:https://fosi.org/event/connected-worlds-how-youth-navigate-technology-at-home-and-in-the-classroom/
LOCATION:Virtual Webinar
ATTACH;FMTTYPE=image/png:https://fosi.org/wp-content/uploads/2026/02/cover-11111.png
ORGANIZER;CN="FOSI":MAILTO:jana@jana.com
END:VEVENT
BEGIN:VEVENT
DTSTART;VALUE=DATE:20260609
DTEND;VALUE=DATE:20260610
DTSTAMP:20260421T111316
CREATED:20251113T034358Z
LAST-MODIFIED:20260421T094427Z
UID:12673-1780963200-1781049599@fosi.org
SUMMARY:FOSI 2026 European Forum
DESCRIPTION:Finding Common Ground \nOn June 9\, 2026\, the Family Online Safety Institute will host its European Forum at Google’s offices in Brussels\, Belgium\, bringing together leaders from across sectors to advance meaningful dialogue on online safety and digital responsibility. \nThis annual convening unites policymakers\, researchers\, industry leaders\, and advocates from around the world for a full day of thoughtful discussion\, collaboration\, and exchange. At a time when digital challenges increasingly cross borders\, the Forum serves as a vital space to identify shared priorities\, bridge perspectives\, and explore solutions grounded in common values. \nThrough open conversation and cross-sector engagement\, Finding Common Ground underscores the importance of collaboration in shaping a safer\, more responsible digital future. Additional details\, including the program agenda and confirmed speakers\, will be announced soon. \nStay connected — sign up for our newsletter to be the first to receive updates.
URL:https://fosi.org/event/fosi-2026-european-forum/
LOCATION:Google Headquarters in Brussels\, Chau. d'Etterbeek 180\, Brussels\, 1040\, Belgium
ATTACH;FMTTYPE=image/jpeg:https://fosi.org/wp-content/uploads/2025/11/EU26-eventtile-1200px.jpg
END:VEVENT
BEGIN:VEVENT
DTSTART;VALUE=DATE:20261119
DTEND;VALUE=DATE:20261120
DTSTAMP:20260421T111316
CREATED:20251113T043928Z
LAST-MODIFIED:20260323T172856Z
UID:12683-1795046400-1795132799@fosi.org
SUMMARY:FOSI 2026 Annual Conference
DESCRIPTION:Save the Date: FOSI 2026 Annual Conference – 20 Years of Making Families Safer Online \nOn November 19\, 2026\, FOSI will celebrate its 20th Anniversary with a special edition of the Annual Conference in Washington\, D.C. \nThis milestone event will bring together global leaders from government\, industry\, academia\, and civil society to reflect on two decades of progress — and look ahead to the next era of innovation\, policy\, and partnership in online safety. \nStay tuned — for more details\, including the theme.\n📩 Sign up for our newsletter to be the first to receive updates.
URL:https://fosi.org/event/fosi-2026-annual-conference/
LOCATION:Ronald Reagan Building and International Trade Center\, D.C.1300 Pennsylvania Ave NW\, Washington\, D.C.\, MD\, 20004\, United States
ATTACH;FMTTYPE=image/jpeg:https://fosi.org/wp-content/uploads/2025/11/AC26-eventtile5.jpg
END:VEVENT
END:VCALENDAR